BEGIN:VCALENDAR
VERSION:2.0
PRODID:SchoolNow
CALSCALE:GREGORIAN
BEGIN:VEVENT
UID:04f4f672-3778-11f1-ac70-0a58a9feac02
DTSTAMP:20260413T203324Z
SUMMARY:Mahjong - Jun 1st
LOCATION:Activities Center
URL;VALUE=URI:https://www.wildernesslakecdd.org/calendar/8991617/mahjong-ju
 n-1st
DTSTART:20260601T170000Z
DTEND:20260601T190000Z
END:VEVENT
END:VCALENDAR
