BEGIN:VCALENDAR
VERSION:2.0
PRODID:SchoolNow
CALSCALE:GREGORIAN
BEGIN:VEVENT
UID:ce248254-0cab-11f0-902b-0a58a9feac02
DTSTAMP:20250329T144048Z
SUMMARY:Rummikub
LOCATION:Activities Center
URL;VALUE=URI:https://www.wildernesslakecdd.org/calendar/7801893/rummikub
DTSTART:20250403T170000Z
DTEND:20250403T190000Z
END:VEVENT
END:VCALENDAR
