BEGIN:VCALENDAR
VERSION:2.0
PRODID:SchoolNow
CALSCALE:GREGORIAN
BEGIN:VEVENT
UID:5011d8a6-f556-11ef-ab1c-0a58a9feac02
DTSTAMP:20250227T220053Z
SUMMARY:Yoga - Meditation
URL;VALUE=URI:https://www.wildernesslakecdd.org/calendar/7564077/yoga-medit
 ation
DTSTART:20250414T230000Z
DTEND:20250415T003000Z
END:VEVENT
END:VCALENDAR
