BEGIN:VCALENDAR
VERSION:2.0
PRODID:SchoolNow
CALSCALE:GREGORIAN
BEGIN:VEVENT
UID:7471cc72-f553-11ef-9dbb-0a58a9feac02
DTSTAMP:20250329T172033Z
SUMMARY:Pickleball Tournament
URL;VALUE=URI:https://www.wildernesslakecdd.org/calendar/7564067/pickleball
 -tournament
DTSTART:20250427T130000Z
DTEND:20250427T160000Z
ATTACH;FILENAME=04.27 April Pickleball tourney.png;FMTTYPE=image/png:https:
 //campussuite-storage.s3.amazonaws.com/prod/1558874/21caec5e-ea98-11e9-858
 1-0a20d2c7fac4/2933805/10481fb8-0cc2-11f0-aaaa-0afffefd7753/file/04.27 Apr
 il Pickleball tourney.png
END:VEVENT
END:VCALENDAR
