BEGIN:VCALENDAR
VERSION:2.0
PRODID:SchoolNow
CALSCALE:GREGORIAN
BEGIN:VEVENT
UID:278ce1ac-e0e1-11ef-8a56-0a58a9feac02
DTSTAMP:20250201T211150Z
SUMMARY:Rummikub
LOCATION:Activities Center
URL;VALUE=URI:https://www.wildernesslakecdd.org/calendar/7408553/rummikub
DTSTART:20250220T180000Z
DTEND:20250220T200000Z
END:VEVENT
END:VCALENDAR
