BEGIN:VCALENDAR
VERSION:2.0
PRODID:SchoolNow
CALSCALE:GREGORIAN
BEGIN:VEVENT
UID:ab2fe392-e0c3-11ef-8df9-0a58a9feac02
DTSTAMP:20250201T174046Z
SUMMARY:Mahjong
LOCATION:Activities Center
URL;VALUE=URI:https://www.wildernesslakecdd.org/calendar/7408383/mahjong
DTSTART:20250303T180000Z
DTEND:20250303T200000Z
END:VEVENT
END:VCALENDAR
