BEGIN:VCALENDAR
VERSION:2.0
PRODID:SchoolNow
CALSCALE:GREGORIAN
BEGIN:VEVENT
UID:edfb39b2-e0c1-11ef-9e58-0affcb0bd103
DTSTAMP:20250201T172819Z
SUMMARY:Card Games
LOCATION:Activities Center
URL;VALUE=URI:https://www.wildernesslakecdd.org/calendar/7408376/card-games
DTSTART:20250226T180000Z
DTEND:20250226T190000Z
END:VEVENT
END:VCALENDAR
