BEGIN:VCALENDAR
VERSION:2.0
PRODID:SchoolNow
CALSCALE:GREGORIAN
BEGIN:VEVENT
UID:bf0b232a-e0c0-11ef-b73e-0a58a9feac02
DTSTAMP:20250201T171951Z
SUMMARY:Card Games
LOCATION:Activities Center
URL;VALUE=URI:https://www.wildernesslakecdd.org/calendar/7408374/card-games
DTSTART:20250212T180000Z
DTEND:20250212T200000Z
END:VEVENT
END:VCALENDAR
