BEGIN:VCALENDAR
VERSION:2.0
PRODID:SchoolNow
CALSCALE:GREGORIAN
BEGIN:VEVENT
UID:c0d5573c-df5a-11ef-b5c2-0afff19064fd
DTSTAMP:20250130T223714Z
SUMMARY:Core Health
LOCATION:Activities Center
URL;VALUE=URI:https://www.wildernesslakecdd.org/calendar/7400150/core-healt
 h
DTSTART:20250130T230000Z
DTEND:20250131T003000Z
END:VEVENT
END:VCALENDAR
