BEGIN:VCALENDAR
VERSION:2.0
PRODID:SchoolNow
CALSCALE:GREGORIAN
BEGIN:VEVENT
UID:fac34a2c-df59-11ef-9b06-0a58a9feac02
DTSTAMP:20250130T223142Z
SUMMARY:Core Health
LOCATION:Activities Center
URL;VALUE=URI:https://www.wildernesslakecdd.org/calendar/7400146/core-healt
 h
DTSTART:20250211T230000Z
DTEND:20250212T003000Z
END:VEVENT
END:VCALENDAR
