BEGIN:VCALENDAR
VERSION:2.0
PRODID:SchoolNow
CALSCALE:GREGORIAN
BEGIN:VEVENT
UID:a7983a42-df59-11ef-bedf-02775eeab8d5
DTSTAMP:20250130T222922Z
SUMMARY:Core Health
LOCATION:Activities Center
URL;VALUE=URI:https://www.wildernesslakecdd.org/calendar/7400143/core-healt
 h
DTSTART:20250204T230000Z
DTEND:20250205T003000Z
END:VEVENT
END:VCALENDAR
