BEGIN:VCALENDAR
VERSION:2.0
PRODID:SchoolNow
CALSCALE:GREGORIAN
BEGIN:VEVENT
UID:bfd9ec9c-df57-11ef-82dc-0a58a9feac02
DTSTAMP:20250130T221544Z
SUMMARY:Yoga
URL;VALUE=URI:https://www.wildernesslakecdd.org/calendar/7400139/yoga
DTSTART:20250227T134500Z
DTEND:20250227T144500Z
END:VEVENT
END:VCALENDAR
