BEGIN:VCALENDAR
VERSION:2.0
PRODID:SchoolNow
CALSCALE:GREGORIAN
BEGIN:VEVENT
UID:9bde71c8-df57-11ef-a0ec-026ef6410529
DTSTAMP:20250130T221444Z
SUMMARY:Yoga
URL;VALUE=URI:https://www.wildernesslakecdd.org/calendar/7400138/yoga
DTSTART:20250225T134500Z
DTEND:20250225T155500Z
END:VEVENT
END:VCALENDAR
