BEGIN:VCALENDAR
VERSION:2.0
PRODID:SchoolNow
CALSCALE:GREGORIAN
BEGIN:VEVENT
UID:043e1332-df57-11ef-bebc-0affccc79a5b
DTSTAMP:20250130T221029Z
SUMMARY:Yoga
LOCATION:Activities Center
URL;VALUE=URI:https://www.wildernesslakecdd.org/calendar/7400136/yoga
DTSTART:20250220T134500Z
DTEND:20250220T155500Z
END:VEVENT
END:VCALENDAR
