BEGIN:VCALENDAR
VERSION:2.0
PRODID:SchoolNow
CALSCALE:GREGORIAN
BEGIN:VEVENT
UID:32501d7a-df56-11ef-a6cf-0a58a9feac02
DTSTAMP:20250130T220437Z
SUMMARY:Yoga
URL;VALUE=URI:https://www.wildernesslakecdd.org/calendar/7400135/yoga
DTSTART:20250218T134500Z
DTEND:20250218T155500Z
END:VEVENT
END:VCALENDAR
