BEGIN:VCALENDAR
VERSION:2.0
PRODID:SchoolNow
CALSCALE:GREGORIAN
BEGIN:VEVENT
UID:01f0047a-df55-11ef-9408-0a58a9feac02
DTSTAMP:20250130T215606Z
SUMMARY:Yoga
URL;VALUE=URI:https://www.wildernesslakecdd.org/calendar/7400129/yoga
DTSTART:20250204T134500Z
DTEND:20250204T155500Z
END:VEVENT
END:VCALENDAR
