BEGIN:VCALENDAR
VERSION:2.0
PRODID:SchoolNow
CALSCALE:GREGORIAN
BEGIN:VEVENT
UID:8e73992e-df51-11ef-9b1c-0a58a9feac02
DTSTAMP:20250130T213124Z
SUMMARY:Glow in the Dark Bingo
LOCATION:Activities Center
URL;VALUE=URI:https://www.wildernesslakecdd.org/calendar/7400110/glow-in-th
 e-dark-bingo
DTSTART:20250130T230000Z
DTEND:20250131T010000Z
END:VEVENT
END:VCALENDAR
