BEGIN:VCALENDAR
VERSION:2.0
PRODID:SchoolNow
CALSCALE:GREGORIAN
BEGIN:VEVENT
UID:35469aea-df47-11ef-b1eb-0affe1c76db9
DTSTAMP:20250130T201720Z
SUMMARY:Spritz and Sparkle
LOCATION:Activities Center
URL;VALUE=URI:https://www.wildernesslakecdd.org/calendar/7398784/spritz-and
 -sparkle
DTSTART:20250228T230000Z
DTEND:20250301T013000Z
ATTACH;FILENAME=Spritz and Sparkle.pdf;FMTTYPE=application/pdf:https://camp
 ussuite-storage.s3.amazonaws.com/prod/1558874/21caec5e-ea98-11e9-8581-0a20
 d2c7fac4/2908830/f6c3b070-df3a-11ef-bc3e-0a58a9feac02/file/Spritz and Spar
 kle.pdf
END:VEVENT
END:VCALENDAR
