BEGIN:VCALENDAR
VERSION:2.0
PRODID:SchoolNow
CALSCALE:GREGORIAN
BEGIN:VEVENT
UID:ac1f1a5a-df44-11ef-be96-0a58a9feac02
DTSTAMP:20250130T195911Z
SUMMARY:King of the Court
LOCATION:Basketball Court
URL;VALUE=URI:https://www.wildernesslakecdd.org/calendar/7398687/king-of-th
 e-court
DTSTART:20250223T210000Z
DTEND:20250223T230000Z
ATTACH;FILENAME=King of the Court.pdf;FMTTYPE=application/pdf:https://campu
 ssuite-storage.s3.amazonaws.com/prod/1558874/21caec5e-ea98-11e9-8581-0a20d
 2c7fac4/2908827/e6b75f74-df3a-11ef-b38c-0a58a9feac02/file/King of the Cour
 t.pdf
END:VEVENT
END:VCALENDAR
