BEGIN:VCALENDAR
VERSION:2.0
PRODID:SchoolNow
CALSCALE:GREGORIAN
BEGIN:VEVENT
UID:ff9998d8-df42-11ef-8958-0a58a9feac02
DTSTAMP:20250130T194712Z
SUMMARY:Pickleball Tournament
LOCATION:Tennis Courts
URL;VALUE=URI:https://www.wildernesslakecdd.org/calendar/7398682/pickleball
 -tournament
DTSTART:20250216T160000Z
DTEND:20250216T190000Z
ATTACH;FILENAME=February Pickleball (1).pdf;FMTTYPE=application/pdf:https:/
 /campussuite-storage.s3.amazonaws.com/prod/1558874/21caec5e-ea98-11e9-8581
 -0a20d2c7fac4/2908826/d5d6d144-df3a-11ef-b487-0a58a9feac02/file/February P
 ickleball (1).pdf
END:VEVENT
END:VCALENDAR
