BEGIN:VCALENDAR
VERSION:2.0
PRODID:SchoolNow
CALSCALE:GREGORIAN
BEGIN:VEVENT
UID:7aaceed0-df39-11ef-8ee3-0ebc57889961
DTSTAMP:20250130T185125Z
SUMMARY:Music Bingo
LOCATION:Activities Center
URL;VALUE=URI:https://www.wildernesslakecdd.org/calendar/7398592/music-bing
 o
DTSTART:20250202T190000Z
DTEND:20250202T210000Z
ATTACH;FILENAME=2000s Music Bingo.pdf;FMTTYPE=application/pdf:https://campu
 ssuite-storage.s3.amazonaws.com/prod/1558874/21caec5e-ea98-11e9-8581-0a20d
 2c7fac4/2908831/26dbcaae-df3b-11ef-a51d-0afff19064fd/file/2000s Music Bing
 o.pdf
END:VEVENT
END:VCALENDAR
