BEGIN:VCALENDAR
VERSION:2.0
PRODID:SchoolNow
CALSCALE:GREGORIAN
BEGIN:VEVENT
UID:65c8c38e-df2c-11ef-8d1e-0a58a9feac02
DTSTAMP:20250130T190726Z
SUMMARY:Pickleball Pickups
LOCATION:Tennis Courts
URL;VALUE=URI:https://www.wildernesslakecdd.org/calendar/7398497/pickleball
 -pickups
DTSTART:20250201T160000Z
DTEND:20250201T190000Z
ATTACH;FILENAME=PICK-UPS.pdf;FMTTYPE=application/pdf:https://campussuite-st
 orage.s3.amazonaws.com/prod/1558874/21caec5e-ea98-11e9-8581-0a20d2c7fac4/2
 908852/2b2c06c6-df3d-11ef-89aa-0affe6773aaf/file/PICK-UPS.pdf
END:VEVENT
END:VCALENDAR
