BEGIN:VCALENDAR
VERSION:2.0
PRODID:SchoolNow
CALSCALE:GREGORIAN
BEGIN:VEVENT
UID:05dc7464-d10f-11ef-a7dd-0a58a9feac02
DTSTAMP:20250112T175952Z
SUMMARY:Walking\, Toning\, and Strengthening Class
LOCATION:Activities Center
URL;VALUE=URI:https://www.wildernesslakecdd.org/calendar/7305142/walking-to
 ning-and-strengthening-class
DTSTART:20250131T143000Z
DTEND:20250131T154500Z
END:VEVENT
END:VCALENDAR
