BEGIN:VCALENDAR
VERSION:2.0
PRODID:SchoolNow
CALSCALE:GREGORIAN
BEGIN:VEVENT
UID:d48aaebc-d10e-11ef-8467-0a58a9feac02
DTSTAMP:20250112T175829Z
SUMMARY:Walking\, Toning\, and Strengthening Class
LOCATION:Activities Center
URL;VALUE=URI:https://www.wildernesslakecdd.org/calendar/7305141/walking-to
 ning-and-strengthening-class
DTSTART:20250129T143000Z
DTEND:20250129T154500Z
END:VEVENT
END:VCALENDAR
