BEGIN:VCALENDAR
VERSION:2.0
PRODID:SchoolNow
CALSCALE:GREGORIAN
BEGIN:VEVENT
UID:8d6a55be-d10e-11ef-86da-0eeb9ce32c25
DTSTAMP:20250112T175630Z
SUMMARY:Walking\, Toning\, and Strengthening Class
LOCATION:Activities Center
URL;VALUE=URI:https://www.wildernesslakecdd.org/calendar/7305139/walking-to
 ning-and-strengthening-class
DTSTART:20250124T143000Z
DTEND:20250124T154500Z
END:VEVENT
END:VCALENDAR
