BEGIN:VCALENDAR
VERSION:2.0
PRODID:SchoolNow
CALSCALE:GREGORIAN
BEGIN:VEVENT
UID:6333459e-d10e-11ef-bcda-0a58a9feac02
DTSTAMP:20250112T175519Z
SUMMARY:Walking\, Toning\, and Strengthening Class
LOCATION:Activities Center
URL;VALUE=URI:https://www.wildernesslakecdd.org/calendar/7305138/walking-to
 ning-and-strengthening-class
DTSTART:20250122T143000Z
DTEND:20250122T154500Z
END:VEVENT
END:VCALENDAR
