BEGIN:VCALENDAR
VERSION:2.0
PRODID:SchoolNow
CALSCALE:GREGORIAN
BEGIN:VEVENT
UID:e49df878-d10d-11ef-a989-0a58a9feac02
DTSTAMP:20250112T175147Z
SUMMARY:Walking\, Toning\, and Strengthening Class
LOCATION:Activities Center
URL;VALUE=URI:https://www.wildernesslakecdd.org/calendar/7305135/walking-to
 ning-and-strengthening-class
DTSTART:20250115T143000Z
DTEND:20250115T154500Z
END:VEVENT
END:VCALENDAR
