BEGIN:VCALENDAR
VERSION:2.0
PRODID:SchoolNow
CALSCALE:GREGORIAN
BEGIN:VEVENT
UID:bf17310a-d10d-11ef-bc6e-0a58a9feac02
DTSTAMP:20250112T175044Z
SUMMARY:Walking\, Toning\, and Strengthening Class
LOCATION:Activities Center
URL;VALUE=URI:https://www.wildernesslakecdd.org/calendar/7305134/walking-to
 ning-and-strengthening-class
DTSTART:20250113T143000Z
DTEND:20250113T154500Z
END:VEVENT
END:VCALENDAR
