BEGIN:VCALENDAR
VERSION:2.0
PRODID:SchoolNow
CALSCALE:GREGORIAN
BEGIN:VEVENT
UID:5031c67e-d10d-11ef-853e-0a58a9feac02
DTSTAMP:20250112T174738Z
SUMMARY:Yoga
URL;VALUE=URI:https://www.wildernesslakecdd.org/calendar/7305133/yoga
DTSTART:20250130T134000Z
DTEND:20250130T154500Z
END:VEVENT
END:VCALENDAR
