BEGIN:VCALENDAR
VERSION:2.0
PRODID:SchoolNow
CALSCALE:GREGORIAN
BEGIN:VEVENT
UID:2f73d5ee-d10d-11ef-afb2-025ebe838cc5
DTSTAMP:20250112T174643Z
SUMMARY:Yoga
LOCATION:Activities Center
URL;VALUE=URI:https://www.wildernesslakecdd.org/calendar/7305132/yoga
DTSTART:20250123T134000Z
DTEND:20250123T154500Z
END:VEVENT
END:VCALENDAR
