BEGIN:VCALENDAR
VERSION:2.0
PRODID:SchoolNow
CALSCALE:GREGORIAN
BEGIN:VEVENT
UID:0ccf5c8e-d10d-11ef-b73d-0afff41910f7
DTSTAMP:20250112T174545Z
SUMMARY:Yoga
LOCATION:Nature Center
URL;VALUE=URI:https://www.wildernesslakecdd.org/calendar/7305131/yoga
DTSTART:20250128T134000Z
DTEND:20250128T154500Z
END:VEVENT
END:VCALENDAR
