BEGIN:VCALENDAR
VERSION:2.0
PRODID:SchoolNow
CALSCALE:GREGORIAN
BEGIN:VEVENT
UID:edbd9fcc-d10c-11ef-b4b0-0afff5cae5c7
DTSTAMP:20250112T174453Z
SUMMARY:Yoga
LOCATION:Nature Center
URL;VALUE=URI:https://www.wildernesslakecdd.org/calendar/7305130/yoga
DTSTART:20250121T134000Z
DTEND:20250121T154500Z
END:VEVENT
END:VCALENDAR
