BEGIN:VCALENDAR
VERSION:2.0
PRODID:SchoolNow
CALSCALE:GREGORIAN
BEGIN:VEVENT
UID:561eaa12-d10c-11ef-b8de-0a58a9feac02
DTSTAMP:20250112T174038Z
SUMMARY:Yoga
LOCATION:Nature Center
URL;VALUE=URI:https://www.wildernesslakecdd.org/calendar/7305129/yoga
DTSTART:20250128T000000Z
DTEND:20250128T013000Z
END:VEVENT
END:VCALENDAR
