BEGIN:VCALENDAR
VERSION:2.0
PRODID:SchoolNow
CALSCALE:GREGORIAN
BEGIN:VEVENT
UID:2dc494e6-d10c-11ef-b7bb-0a58a9feac02
DTSTAMP:20250112T173930Z
SUMMARY:Yoga
LOCATION:Nature Center
URL;VALUE=URI:https://www.wildernesslakecdd.org/calendar/7305128/yoga
DTSTART:20250121T000000Z
DTEND:20250121T013000Z
END:VEVENT
END:VCALENDAR
