BEGIN:VCALENDAR
VERSION:2.0
PRODID:SchoolNow
CALSCALE:GREGORIAN
BEGIN:VEVENT
UID:dadc624a-d10b-11ef-a5ba-0a58a9feac02
DTSTAMP:20250112T173711Z
SUMMARY:Rummikub
LOCATION:Activities Center
URL;VALUE=URI:https://www.wildernesslakecdd.org/calendar/7305127/rummikub
DTSTART:20250130T180000Z
DTEND:20250130T200000Z
END:VEVENT
END:VCALENDAR
