BEGIN:VCALENDAR
VERSION:2.0
PRODID:SchoolNow
CALSCALE:GREGORIAN
BEGIN:VEVENT
UID:b4a9a1aa-d10b-11ef-9c36-0afff5cae5c7
DTSTAMP:20250112T173607Z
SUMMARY:Card Games
URL;VALUE=URI:https://www.wildernesslakecdd.org/calendar/7305126/card-games
DTSTART:20250129T180000Z
DTEND:20250129T200000Z
END:VEVENT
END:VCALENDAR
