BEGIN:VCALENDAR
VERSION:2.0
PRODID:SchoolNow
CALSCALE:GREGORIAN
BEGIN:VEVENT
UID:9e632cea-d10b-11ef-bd78-0affd1e096cd
DTSTAMP:20250112T173530Z
SUMMARY:Card Games
LOCATION:Activities Center
URL;VALUE=URI:https://www.wildernesslakecdd.org/calendar/7305125/card-games
DTSTART:20250122T180000Z
DTEND:20250122T200000Z
END:VEVENT
END:VCALENDAR
