BEGIN:VCALENDAR
VERSION:2.0
PRODID:SchoolNow
CALSCALE:GREGORIAN
BEGIN:VEVENT
UID:4879a570-d10b-11ef-9184-0a58a9feac02
DTSTAMP:20250112T173306Z
SUMMARY:Rummikub
LOCATION:Activities Center
URL;VALUE=URI:https://www.wildernesslakecdd.org/calendar/7305123/rummikub
DTSTART:20250116T180000Z
DTEND:20250116T200000Z
END:VEVENT
END:VCALENDAR
