BEGIN:VCALENDAR
VERSION:2.0
PRODID:SchoolNow
CALSCALE:GREGORIAN
BEGIN:VEVENT
UID:109c9586-d10b-11ef-b8fd-0a58a9feac02
DTSTAMP:20250112T173416Z
SUMMARY:Card Games
LOCATION:Activities Center
URL;VALUE=URI:https://www.wildernesslakecdd.org/calendar/7305122/cards-for-
 all
DTSTART:20250115T180000Z
DTEND:20250115T200000Z
END:VEVENT
END:VCALENDAR
