BEGIN:VCALENDAR
VERSION:2.0
PRODID:SchoolNow
CALSCALE:GREGORIAN
BEGIN:VEVENT
UID:e4ba318a-d10a-11ef-980a-0a58a9feac02
DTSTAMP:20250112T173018Z
SUMMARY:Storytime
LOCATION:Nature Center
URL;VALUE=URI:https://www.wildernesslakecdd.org/calendar/7305121/storytime
DTSTART:20250127T150000Z
DTEND:20250127T160000Z
END:VEVENT
END:VCALENDAR
