BEGIN:VCALENDAR
VERSION:2.0
PRODID:SchoolNow
CALSCALE:GREGORIAN
BEGIN:VEVENT
UID:c18106a8-d10a-11ef-a40e-0afff5cae5c7
DTSTAMP:20250112T172919Z
SUMMARY:Storytime
LOCATION:Nature Center
URL;VALUE=URI:https://www.wildernesslakecdd.org/calendar/7305120/storytime
DTSTART:20250120T150000Z
DTEND:20250120T160000Z
END:VEVENT
END:VCALENDAR
