BEGIN:VCALENDAR
VERSION:2.0
PRODID:SchoolNow
CALSCALE:GREGORIAN
BEGIN:VEVENT
UID:80e168c2-d10a-11ef-b65a-0a58a9feac02
DTSTAMP:20250112T172731Z
SUMMARY:Core Health
LOCATION:Activities Center
URL;VALUE=URI:https://www.wildernesslakecdd.org/calendar/7305119/core-healt
 h
DTSTART:20250118T150000Z
DTEND:20250118T163000Z
END:VEVENT
END:VCALENDAR
