BEGIN:VCALENDAR
VERSION:2.0
PRODID:SchoolNow
CALSCALE:GREGORIAN
BEGIN:VEVENT
UID:5782e0be-d10a-11ef-abdc-0a58a9feac02
DTSTAMP:20250112T172621Z
SUMMARY:Core Health
LOCATION:Activities Center
URL;VALUE=URI:https://www.wildernesslakecdd.org/calendar/7305118/core-healt
 h
DTSTART:20250114T230000Z
DTEND:20250115T003000Z
END:VEVENT
END:VCALENDAR
