BEGIN:VCALENDAR
VERSION:2.0
PRODID:SchoolNow
CALSCALE:GREGORIAN
BEGIN:VEVENT
UID:109dd316-d10a-11ef-9321-0a58a9feac02
DTSTAMP:20250114T195230Z
SUMMARY:HOA Meeting
LOCATION:Activities Center
URL;VALUE=URI:https://www.wildernesslakecdd.org/calendar/7305117/hoa-meetin
 g
DTSTART:20250128T233000Z
DTEND:20250129T013000Z
END:VEVENT
END:VCALENDAR
