BEGIN:VCALENDAR
VERSION:2.0
PRODID:SchoolNow
CALSCALE:GREGORIAN
BEGIN:VEVENT
UID:8fdc522a-d109-11ef-9b5f-0a58a9feac02
DTSTAMP:20250112T172503Z
SUMMARY:ARC Meeting - (Zoom)
URL;VALUE=URI:https://www.wildernesslakecdd.org/calendar/7305116/arc-meetin
 g
DTSTART:20250127T233000Z
DTEND:20250128T003000Z
END:VEVENT
END:VCALENDAR
