BEGIN:VCALENDAR
VERSION:2.0
PRODID:SchoolNow
CALSCALE:GREGORIAN
BEGIN:VEVENT
UID:80ab2eda-d108-11ef-9dac-0eeb9ce32c25
DTSTAMP:20250112T171312Z
SUMMARY:Yoga
URL;VALUE=URI:https://www.wildernesslakecdd.org/calendar/7305115/yoga
DTSTART:20250116T134000Z
DTEND:20250116T154500Z
END:VEVENT
END:VCALENDAR
