BEGIN:VCALENDAR
VERSION:2.0
PRODID:SchoolNow
CALSCALE:GREGORIAN
BEGIN:VEVENT
UID:a7c9f2b8-d107-11ef-8610-025ebe838cc5
DTSTAMP:20250112T173345Z
SUMMARY:Kid's Gasparilla Celebration
URL;VALUE=URI:https://www.wildernesslakecdd.org/calendar/7305113/kids-gaspa
 rilla-celebration
DTSTART:20250125T180000Z
DTEND:20250125T200000Z
END:VEVENT
END:VCALENDAR
