BEGIN:VCALENDAR
VERSION:2.0
PRODID:SchoolNow
CALSCALE:GREGORIAN
BEGIN:VEVENT
UID:fa03b0e2-d106-11ef-909a-0a58a9feac02
DTSTAMP:20250112T170216Z
SUMMARY:Popcorn Day
URL;VALUE=URI:https://www.wildernesslakecdd.org/calendar/7305112/popcorn-da
 y
DTSTART:20250119T190000Z
DTEND:20250119T220000Z
END:VEVENT
END:VCALENDAR
