BEGIN:VCALENDAR
VERSION:2.0
PRODID:SchoolNow
CALSCALE:GREGORIAN
BEGIN:VEVENT
UID:0fc834f2-bc12-11ef-8969-0a58a9feac02
DTSTAMP:20241217T005843Z
SUMMARY:Walking - Jan. 6th
URL;VALUE=URI:https://www.wildernesslakecdd.org/calendar/7184082/walking-ja
 n-6th
DTSTART:20250106T143000Z
DTEND:20250106T154500Z
END:VEVENT
END:VCALENDAR
