BEGIN:VCALENDAR
VERSION:2.0
PRODID:SchoolNow
CALSCALE:GREGORIAN
BEGIN:VEVENT
UID:e10d378e-bc11-11ef-b1e9-0a58a9feac02
DTSTAMP:20241217T005724Z
SUMMARY:Yoga - Jan. 7th
URL;VALUE=URI:https://www.wildernesslakecdd.org/calendar/7184081/yoga-jan-7
 th
DTSTART:20250107T134000Z
DTEND:20250107T154500Z
END:VEVENT
END:VCALENDAR
